Workbook

Sheet Avgang_tallserie_figur_2026_2
B1: Andel arbeidssøkere i jobb | C1: Andel personer med nedsatt arbeidsevne i jobb
A2: 20161 | B2: =IFERROR((ROUND((SUMIFS([1]data!$D$2:$D$1048576,[1]data!$A$2:$A$1048576,Avgang_tallserie_figur_2026_2!$A2,[1]data!$B$2:$B$1048576,1,[1]data!$C$2:$C$1048576,1)/SUMIFS([1]data!$D$2:$D$1048576,[1]data!$A$2:$A$1048576,Avgang_tallserie_figur_2026_2!$A2,[1]data!$B$2:$B$1048576,1))*100,1)),"") -> 54.7 | C2: =IFERROR((ROUND((SUMIFS([1]data!$D$2:$D$1048576,[1]data!$A$2:$A$1048576,Avgang_tallserie_figur_2026_2!$A2,[1]data!$B$2:$B$1048576,2,[1]data!$C$2:$C$1048576,1)/SUMIFS([1]data!$D$2:$D$1048576,[1]data!$A$2:$A$1048576,Avgang_tallserie_figur_2026_2!$A2,[1]data!$B$2:$B$1048576,2))*100,1)),"") -> 28.5
A3: 20162 | B3: =IFERROR((ROUND((SUMIFS([1]data!$D$2:$D$1048576,[1]data!$A$2:$A$1048576,Avgang_tallserie_figur_2026_2!$A3,[1]data!$B$2:$B$1048576,1,[1]data!$C$2:$C$1048576,1)/SUMIFS([1]data!$D$2:$D$1048576,[1]data!$A$2:$A$1048576,Avgang_tallserie_figur_2026_2!$A3,[1]data!$B$2:$B$1048576,1))*100,1)),"") -> 57.4 | C3: =IFERROR((ROUND((SUMIFS([1]data!$D$2:$D$1048576,[1]data!$A$2:$A$1048576,Avgang_tallserie_figur_2026_2!$A3,[1]data!$B$2:$B$1048576,2,[1]data!$C$2:$C$1048576,1)/SUMIFS([1]data!$D$2:$D$1048576,[1]data!$A$2:$A$1048576,Avgang_tallserie_figur_2026_2!$A3,[1]data!$B$2:$B$1048576,2))*100,1)),"") -> 25.2
A4: 20163 | B4: =IFERROR((ROUND((SUMIFS([1]data!$D$2:$D$1048576,[1]data!$A$2:$A$1048576,Avgang_tallserie_figur_2026_2!$A4,[1]data!$B$2:$B$1048576,1,[1]data!$C$2:$C$1048576,1)/SUMIFS([1]data!$D$2:$D$1048576,[1]data!$A$2:$A$1048576,Avgang_tallserie_figur_2026_2!$A4,[1]data!$B$2:$B$1048576,1))*100,1)),"") -> 61.3 | C4: =IFERROR((ROUND((SUMIFS([1]data!$D$2:$D$1048576,[1]data!$A$2:$A$1048576,Avgang_tallserie_figur_2026_2!$A4,[1]data!$B$2:$B$1048576,2,[1]data!$C$2:$C$1048576,1)/SUMIFS([1]data!$D$2:$D$1048576,[1]data!$A$2:$A$1048576,Avgang_tallserie_figur_2026_2!$A4,[1]data!$B$2:$B$1048576,2))*100,1)),"") -> 25.6
A5: 20164 | B5: =IFERROR((ROUND((SUMIFS([1]data!$D$2:$D$1048576,[1]data!$A$2:$A$1048576,Avgang_tallserie_figur_2026_2!$A5,[1]data!$B$2:$B$1048576,1,[1]data!$C$2:$C$1048576,1)/SUMIFS([1]data!$D$2:$D$1048576,[1]data!$A$2:$A$1048576,Avgang_tallserie_figur_2026_2!$A5,[1]data!$B$2:$B$1048576,1))*100,1)),"") -> 58.5 | C5: =IFERROR((ROUND((SUMIFS([1]data!$D$2:$D$1048576,[1]data!$A$2:$A$1048576,Avgang_tallserie_figur_2026_2!$A5,[1]data!$B$2:$B$1048576,2,[1]data!$C$2:$C$1048576,1)/SUMIFS([1]data!$D$2:$D$1048576,[1]data!$A$2:$A$1048576,Avgang_tallserie_figur_2026_2!$A5,[1]data!$B$2:$B$1048576,2))*100,1)),"") -> 30.4
A6: =A2+10 -> 20171 | B6: =IFERROR((ROUND((SUMIFS([1]data!$D$2:$D$1048576,[1]data!$A$2:$A$1048576,Avgang_tallserie_figur_2026_2!$A6,[1]data!$B$2:$B$1048576,1,[1]data!$C$2:$C$1048576,1)/SUMIFS([1]data!$D$2:$D$1048576,[1]data!$A$2:$A$1048576,Avgang_tallserie_figur_2026_2!$A6,[1]data!$B$2:$B$1048576,1))*100,1)),"") -> 57.9 | C6: =IFERROR((ROUND((SUMIFS([1]data!$D$2:$D$1048576,[1]data!$A$2:$A$1048576,Avgang_tallserie_figur_2026_2!$A6,[1]data!$B$2:$B$1048576,2,[1]data!$C$2:$C$1048576,1)/SUMIFS([1]data!$D$2:$D$1048576,[1]data!$A$2:$A$1048576,Avgang_tallserie_figur_2026_2!$A6,[1]data!$B$2:$B$1048576,2))*100,1)),"") -> 30.5
A7: =A3+10 -> 20172 | B7: =IFERROR((ROUND((SUMIFS([1]data!$D$2:$D$1048576,[1]data!$A$2:$A$1048576,Avgang_tallserie_figur_2026_2!$A7,[1]data!$B$2:$B$1048576,1,[1]data!$C$2:$C$1048576,1)/SUMIFS([1]data!$D$2:$D$1048576,[1]data!$A$2:$A$1048576,Avgang_tallserie_figur_2026_2!$A7,[1]data!$B$2:$B$1048576,1))*100,1)),"") -> 59.8 | C7: =IFERROR((ROUND((SUMIFS([1]data!$D$2:$D$1048576,[1]data!$A$2:$A$1048576,Avgang_tallserie_figur_2026_2!$A7,[1]data!$B$2:$B$1048576,2,[1]data!$C$2:$C$1048576,1)/SUMIFS([1]data!$D$2:$D$1048576,[1]data!$A$2:$A$1048576,Avgang_tallserie_figur_2026_2!$A7,[1]data!$B$2:$B$1048576,2))*100,1)),"") -> 28.7
A8: =A4+10 -> 20173 | B8: =IFERROR((ROUND((SUMIFS([1]data!$D$2:$D$1048576,[1]data!$A$2:$A$1048576,Avgang_tallserie_figur_2026_2!$A8,[1]data!$B$2:$B$1048576,1,[1]data!$C$2:$C$1048576,1)/SUMIFS([1]data!$D$2:$D$1048576,[1]data!$A$2:$A$1048576,Avgang_tallserie_figur_2026_2!$A8,[1]data!$B$2:$B$1048576,1))*100,1)),"") -> 63.3 | C8: =IFERROR((ROUND((SUMIFS([1]data!$D$2:$D$1048576,[1]data!$A$2:$A$1048576,Avgang_tallserie_figur_2026_2!$A8,[1]data!$B$2:$B$1048576,2,[1]data!$C$2:$C$1048576,1)/SUMIFS([1]data!$D$2:$D$1048576,[1]data!$A$2:$A$1048576,Avgang_tallserie_figur_2026_2!$A8,[1]data!$B$2:$B$1048576,2))*100,1)),"") -> 26.3
A9: =A5+10 -> 20174 | B9: =IFERROR((ROUND((SUMIFS([1]data!$D$2:$D$1048576,[1]data!$A$2:$A$1048576,Avgang_tallserie_figur_2026_2!$A9,[1]data!$B$2:$B$1048576,1,[1]data!$C$2:$C$1048576,1)/SUMIFS([1]data!$D$2:$D$1048576,[1]data!$A$2:$A$1048576,Avgang_tallserie_figur_2026_2!$A9,[1]data!$B$2:$B$1048576,1))*100,1)),"") -> 61.2 | C9: =IFERROR((ROUND((SUMIFS([1]data!$D$2:$D$1048576,[1]data!$A$2:$A$1048576,Avgang_tallserie_figur_2026_2!$A9,[1]data!$B$2:$B$1048576,2,[1]data!$C$2:$C$1048576,1)/SUMIFS([1]data!$D$2:$D$1048576,[1]data!$A$2:$A$1048576,Avgang_tallserie_figur_2026_2!$A9,[1]data!$B$2:$B$1048576,2))*100,1)),"") -> 32.3
A10: =A6+10 -> 20181 | B10: =IFERROR((ROUND((SUMIFS([1]data!$D$2:$D$1048576,[1]data!$A$2:$A$1048576,Avgang_tallserie_figur_2026_2!$A10,[1]data!$B$2:$B$1048576,1,[1]data!$C$2:$C$1048576,1)/SUMIFS([1]data!$D$2:$D$1048576,[1]data!$A$2:$A$1048576,Avgang_tallserie_figur_2026_2!$A10,[1]data!$B$2:$B$1048576,1))*100,1)),"") -> 58.7 | C10: =IFERROR((ROUND((SUMIFS([1]data!$D$2:$D$1048576,[1]data!$A$2:$A$1048576,Avgang_tallserie_figur_2026_2!$A10,[1]data!$B$2:$B$1048576,2,[1]data!$C$2:$C$1048576,1)/SUMIFS([1]data!$D$2:$D$1048576,[1]data!$A$2:$A$1048576,Avgang_tallserie_figur_2026_2!$A10,[1]data!$B$2:$B$1048576,2))*100,1)),"") -> 29.3
A11: =A7+10 -> 20182 | B11: =IFERROR((ROUND((SUMIFS([1]data!$D$2:$D$1048576,[1]data!$A$2:$A$1048576,Avgang_tallserie_figur_2026_2!$A11,[1]data!$B$2:$B$1048576,1,[1]data!$C$2:$C$1048576,1)/SUMIFS([1]data!$D$2:$D$1048576,[1]data!$A$2:$A$1048576,Avgang_tallserie_figur_2026_2!$A11,[1]data!$B$2:$B$1048576,1))*100,1)),"") -> 59.5 | C11: =IFERROR((ROUND((SUMIFS([1]data!$D$2:$D$1048576,[1]data!$A$2:$A$1048576,Avgang_tallserie_figur_2026_2!$A11,[1]data!$B$2:$B$1048576,2,[1]data!$C$2:$C$1048576,1)/SUMIFS([1]data!$D$2:$D$1048576,[1]data!$A$2:$A$1048576,Avgang_tallserie_figur_2026_2!$A11,[1]data!$B$2:$B$1048576,2))*100,1)),"") -> 23.8
A12: =A8+10 -> 20183 | B12: =IFERROR((ROUND((SUMIFS([1]data!$D$2:$D$1048576,[1]data!$A$2:$A$1048576,Avgang_tallserie_figur_2026_2!$A12,[1]data!$B$2:$B$1048576,1,[1]data!$C$2:$C$1048576,1)/SUMIFS([1]data!$D$2:$D$1048576,[1]data!$A$2:$A$1048576,Avgang_tallserie_figur_2026_2!$A12,[1]data!$B$2:$B$1048576,1))*100,1)),"") -> 61.9 | C12: =IFERROR((ROUND((SUMIFS([1]data!$D$2:$D$1048576,[1]data!$A$2:$A$1048576,Avgang_tallserie_figur_2026_2!$A12,[1]data!$B$2:$B$1048576,2,[1]data!$C$2:$C$1048576,1)/SUMIFS([1]data!$D$2:$D$1048576,[1]data!$A$2:$A$1048576,Avgang_tallserie_figur_2026_2!$A12,[1]data!$B$2:$B$1048576,2))*100,1)),"") -> 23.6
A13: =A9+10 -> 20184 | B13: =IFERROR((ROUND((SUMIFS([1]data!$D$2:$D$1048576,[1]data!$A$2:$A$1048576,Avgang_tallserie_figur_2026_2!$A13,[1]data!$B$2:$B$1048576,1,[1]data!$C$2:$C$1048576,1)/SUMIFS([1]data!$D$2:$D$1048576,[1]data!$A$2:$A$1048576,Avgang_tallserie_figur_2026_2!$A13,[1]data!$B$2:$B$1048576,1))*100,1)),"") -> 59.3 | C13: =IFERROR((ROUND((SUMIFS([1]data!$D$2:$D$1048576,[1]data!$A$2:$A$1048576,Avgang_tallserie_figur_2026_2!$A13,[1]data!$B$2:$B$1048576,2,[1]data!$C$2:$C$1048576,1)/SUMIFS([1]data!$D$2:$D$1048576,[1]data!$A$2:$A$1048576,Avgang_tallserie_figur_2026_2!$A13,[1]data!$B$2:$B$1048576,2))*100,1)),"") -> 25
A14: =A10+10 -> 20191 | B14: =IFERROR((ROUND((SUMIFS([1]data!$D$2:$D$1048576,[1]data!$A$2:$A$1048576,Avgang_tallserie_figur_2026_2!$A14,[1]data!$B$2:$B$1048576,1,[1]data!$C$2:$C$1048576,1)/SUMIFS([1]data!$D$2:$D$1048576,[1]data!$A$2:$A$1048576,Avgang_tallserie_figur_2026_2!$A14,[1]data!$B$2:$B$1048576,1))*100,1)),"") -> 60.3 | C14: =IFERROR((ROUND((SUMIFS([1]data!$D$2:$D$1048576,[1]data!$A$2:$A$1048576,Avgang_tallserie_figur_2026_2!$A14,[1]data!$B$2:$B$1048576,2,[1]data!$C$2:$C$1048576,1)/SUMIFS([1]data!$D$2:$D$1048576,[1]data!$A$2:$A$1048576,Avgang_tallserie_figur_2026_2!$A14,[1]data!$B$2:$B$1048576,2))*100,1)),"") -> 27.4
A15: =A11+10 -> 20192 | B15: =IFERROR((ROUND((SUMIFS([1]data!$D$2:$D$1048576,[1]data!$A$2:$A$1048576,Avgang_tallserie_figur_2026_2!$A15,[1]data!$B$2:$B$1048576,1,[1]data!$C$2:$C$1048576,1)/SUMIFS([1]data!$D$2:$D$1048576,[1]data!$A$2:$A$1048576,Avgang_tallserie_figur_2026_2!$A15,[1]data!$B$2:$B$1048576,1))*100,1)),"") -> 59.7 | C15: =IFERROR((ROUND((SUMIFS([1]data!$D$2:$D$1048576,[1]data!$A$2:$A$1048576,Avgang_tallserie_figur_2026_2!$A15,[1]data!$B$2:$B$1048576,2,[1]data!$C$2:$C$1048576,1)/SUMIFS([1]data!$D$2:$D$1048576,[1]data!$A$2:$A$1048576,Avgang_tallserie_figur_2026_2!$A15,[1]data!$B$2:$B$1048576,2))*100,1)),"") -> 23.1
A16: =A12+10 -> 20193 | B16: =IFERROR((ROUND((SUMIFS([1]data!$D$2:$D$1048576,[1]data!$A$2:$A$1048576,Avgang_tallserie_figur_2026_2!$A16,[1]data!$B$2:$B$1048576,1,[1]data!$C$2:$C$1048576,1)/SUMIFS([1]data!$D$2:$D$1048576,[1]data!$A$2:$A$1048576,Avgang_tallserie_figur_2026_2!$A16,[1]data!$B$2:$B$1048576,1))*100,1)),"") -> 63.3 | C16: =IFERROR((ROUND((SUMIFS([1]data!$D$2:$D$1048576,[1]data!$A$2:$A$1048576,Avgang_tallserie_figur_2026_2!$A16,[1]data!$B$2:$B$1048576,2,[1]data!$C$2:$C$1048576,1)/SUMIFS([1]data!$D$2:$D$1048576,[1]data!$A$2:$A$1048576,Avgang_tallserie_figur_2026_2!$A16,[1]data!$B$2:$B$1048576,2))*100,1)),"") -> 24.6
A17: =A13+10 -> 20194 | B17: =IFERROR((ROUND((SUMIFS([1]data!$D$2:$D$1048576,[1]data!$A$2:$A$1048576,Avgang_tallserie_figur_2026_2!$A17,[1]data!$B$2:$B$1048576,1,[1]data!$C$2:$C$1048576,1)/SUMIFS([1]data!$D$2:$D$1048576,[1]data!$A$2:$A$1048576,Avgang_tallserie_figur_2026_2!$A17,[1]data!$B$2:$B$1048576,1))*100,1)),"") -> 59.7 | C17: =IFERROR((ROUND((SUMIFS([1]data!$D$2:$D$1048576,[1]data!$A$2:$A$1048576,Avgang_tallserie_figur_2026_2!$A17,[1]data!$B$2:$B$1048576,2,[1]data!$C$2:$C$1048576,1)/SUMIFS([1]data!$D$2:$D$1048576,[1]data!$A$2:$A$1048576,Avgang_tallserie_figur_2026_2!$A17,[1]data!$B$2:$B$1048576,2))*100,1)),"") -> 25.6
... A43: =A39+10 -> 20262 | B43: =IFERROR((ROUND((SUMIFS([1]data!$D$2:$D$1048576,[1]data!$A$2:$A$1048576,Avgang_tallserie_figur_2026_2!$A43,[1]data!$B$2:$B$1048576,1,[1]data!$C$2:$C$1048576,1)/SUMIFS([1]data!$D$2:$D$1048576,[1]data!$A$2:$A$1048576,Avgang_tallserie_figur_2026_2!$A43,[1]data!$B$2:$B$1048576,1))*100,1)),"") -> 63.3 | C43: =IFERROR((ROUND((SUMIFS([1]data!$D$2:$D$1048576,[1]data!$A$2:$A$1048576,Avgang_tallserie_figur_2026_2!$A43,[1]data!$B$2:$B$1048576,2,[1]data!$C$2:$C$1048576,1)/SUMIFS([1]data!$D$2:$D$1048576,[1]data!$A$2:$A$1048576,Avgang_tallserie_figur_2026_2!$A43,[1]data!$B$2:$B$1048576,2))*100,1)),"") -> 36.5
