{"text_format":"1","workbook":"xlsx","n_sheets":3,"sheets":["A","B","E"],"not_rendered":{"charts":0,"images":1,"macros":1,"external_links":0,"defined_names":14,"comments":2,"pivot_tables":0},"unopened":[],"bounds":{"document_bytes":16777216,"sheet_cells":100000,"rows_first":2000,"rows_last":500,"rows_between":2000,"halvings":0,"cell_chars":16384,"cell_head_chars":4096},"cells_cut":0,"cells_raw":0,"read":"whole","date_system":"1900"}

{"sheet":"A","index":0,"n_rows":46,"n_cols":17,"rows_kept":46,"cut":false,"hidden":false,"merged":[[17,5,17,7],[9,2,9,10],[29,2,31,3],[32,2,34,3],[35,2,37,3],[32,5,32,7],[33,5,33,7],[34,5,34,7],[4,2,4,3],[4,5,4,7],[3,5,3,9],[16,5,16,7],[3,11,3,12],[5,12,6,15],[7,14,9,15],[7,8,7,9],[6,8,6,9],[6,10,6,11],[5,8,5,9],[5,2,5,3],[46,14,46,15],[38,6,38,7],[36,5,36,7],[30,5,30,7],[2,5,2,12],[28,12,28,15],[10,12,10,15],[3,13,3,14],[25,6,25,7],[10,8,10,11],[11,2,11,7],[4,13,4,14],[26,5,26,7],[4,11,4,12],[3,2,3,3],[5,10,5,11],[42,2,42,3],[15,2,16,3],[5,5,5,7],[6,2,7,7],[10,2,10,7],[13,6,13,7],[8,2,8,10],[29,5,29,7],[35,5,35,7],[13,2,14,3],[37,5,37,7],[31,5,31,7],[27,6,27,7],[19,5,19,7],[41,6,41,15],[40,12,40,15]]}
[]
[" ",null,null,null,null,null,null,null,null,null,null,"\n\n"]
[null,null,null,null,null,"Reiseregning",null,null,null,null,null,null,null," Bilagsnr.:"]
[null,null,"  Navn",null,null,null,null,null,null,null," Fødselsnr",null,null," Ressursnummer"]
[null,null,"  Adresse",null,null,null,null,null,"  Postnr.",null," Poststed",null,null," Koststed"]
[null,null,"  Bankkonto",null,null,null,null,null,"  Skattekommune",null,null,null,"   "]
[null,null,"",null,null,null,null,null,"  Skattetabell"]
[null,null,null,null,null,null,null,null,"  Skatteprosent",null,null,"  Reisetid"," Dato:","  Kl.:"]
[null,null," Reisested og -formål",null,null,null,null,null,null,null,null,"  Avreise:"]
[null,null,null,null,null,null,null,null,null,null,null,"  Retur:"]
[null,null,null,null,null,null,null,null,null,null,null,null,null,null,null,null,"   "]
[null,null,"Reiseutlegg / godtgjørelser",null,null,null,null,null,"LTA-kode","Antall","Sats","Beløp","Koststed","Formål","Statskonto","Aktivitet"]
[null,null,"      OVERFØRT  FRA  BAKSIDEN",null,null,null,null,null,4000,"              ",null,{"$f":"SUM(Beløp)","v":0}]
[null,null,"Kostgodtgjørelse u/overnatting innland",null,null,"Dagdiett 6 -12 timer ",null,null,4005,null,307,{"$f":"J14*K14","v":0}]
[null,null,null,null,null,"Dagdiett utover 12 timer ",null,null,4006,null,570]
[null,null,"Kostgodtgjørelse med overnatting",null,null,"  Innland med overnatting over 12 timer",null,null,4051,null,780,0]
[null,null,null,null,null," ",null,null," ",null,null,0]
[null,null,"Natt-tillegg",null,null,"  Innland hotell",null,null,4000,null,null,{"$f":"J18*K18","v":0}]
[null,null,null,null,null,"  Innland ulegitimert",null,null,4025,null,435,0]
[null,null,null,null,null,"  Utland hotell",null,null,4000,null,null,0]
[null,null,null,null,null," ",null,null," ",null," "," "]
[null,null,"Eget skyssmiddel.",null,null,"  Bil - Km.godgj. Inn/utland ",null,null,4203,null,4.03,0]
[null,null,null,null,null," ",null,null," ",null," "," "]
[null,null,"Spesifiser reisen",null,null,"  Hjem-arbeid  (skattepl.)",null,null,4230,null,null,0]
[null,null,null,null,null,"  Passasjertillegg",null,null,4220,null,1,0]
[null,null,null,null,null,"  Annet",null,null,null,null,null,0]
[null,null,"Opphold > 28 døgn",null,null,"  Kostgodtgjørelse",null,null,4050,null,null,0]
[null,null,"Andre godtgjørelser",null,null,null,null,null,null,null,null,{"$f":"J28*K28","v":0}]
[null,null,"   SUM UTLEGG OG GODTGJØRELSER",null,null,null,null,null,null,null,null,{"$f":"SUM(L13:L28)","v":0}]
[null,null,"Trekk for kost\nuten overnatting innland 6-12 timar ",null,null,"Frukost ( splittes i skattefri/skattepliktig del ) ",null,null,4088,null,156,{"$f":"J30*-K30","v":0}]
[null,null,null,null,null,"Lunsj ( splittes i skattefri/skattepliktig del ) ",null,null,4091,null,234,0]
[null,null,null,null,null,"Middag ( splittes i skattefri/skattepliktig del ) ",null,null,4094,null,390,0]
[null,null,"Trekk for kost\nuten overnatting innland over 12 timar",null,null,"Frukost ( splittes i skattefri/skattepliktig del ) ",null,null,4097,null,156,0]
[null,null,null,null,null,"Lunsj ( splittes i skattefri/skattepliktig del ) ",null,null,40991,null,234,0]
[null,null,null,null,null,"Middag ( splittes i skattefri/skattepliktig del ) ",null,null,40994,null,390,0]
[null,null,"Trekk for kost med overnatting\ninnland",null,null,"Frukost ( splittes i skattefri/skattepliktig del ) ",null,null,4054,null,156,0]
[null,null,null,null,null,"Lunsj ( splittes i skattefri/skattepliktig del ) ",null,null,4057,null,234,0]
[null,null,null,null,null,"Middag ( splittes i skattefri/skattepliktig del ) ",null,null,4060,null,390,0]
[null,null,"Trekk reiseforskudd utbet.sted og beløp",null,null,null,null,null,null,null,null,{"$f":"J39*-K39","v":0}]
[]
[null,null,"     SUM TIL UTBETALING    (Utbetalingsbeløpet kan bli mindre pga. evt. forskuddstrekk)",null,null,null,null,null,null,null,null,{"$f":"SUM(L29:L39)","v":0}]
[null,null,null,null,null,null,"               Jeg samtykker i at ev. skyldig beløp kan trekkes i lønn"]
[null,null,"Utstederens underskrift",null,"Dato","Dato","Sign."]
[null,null,"       Attestasjon",null,null,"Dato","Sign."]
[null,null,"       Anvisning",null,"Dato","Dato","Sign."," "]
[null,null,null,null,"Dato"]

{"sheet":"B","index":1,"n_rows":58,"n_cols":14,"rows_kept":58,"cut":false,"hidden":false,"merged":[[1,10,1,13],[51,1,51,13],[2,10,2,12],[19,3,19,4],[25,10,25,12],[18,3,18,4],[4,3,4,4],[5,3,5,4],[6,3,6,4],[7,3,7,4],[12,3,12,4],[13,3,13,4],[14,3,14,4],[15,3,15,4],[8,3,8,4],[9,3,9,4],[10,3,10,4],[11,3,11,4],[31,5,31,9],[32,5,32,9],[46,4,46,13],[16,3,16,4],[17,3,17,4],[27,5,27,9],[28,5,28,9]]}
[]
[null,"   Reisespesifikasjon",null,null,null,null,null,null,null,null,"   Reiseutlegg"]
[null,null,"   Fra",null,null,"    Til",null,null," Skyssmiddel",null,"    Fremmed valuta"]
[null,"  Dato","Kl.","   Sted",null,"    Sted","Kl.","Type","Kjøre- form","km \neget\nkj.tøy (bil)","Valuta","Beløp i valuta"," Kurs","   Beløp"]
[]
[]
[]
[]
[]
[]
[]
[]
[]
[]
[]
[]
[]
[]
[null," Hjemmel for"," Dato",null,null,"        Sum km denne reisen",null,null,null,{"$f":"SUM(J5:J18)","v":0},null,null,"Delsum",{"$f":"SUM(N5:N18)","v":0}]
[null," bruk av bil"," Gitt av",null,null,"     + tidligere godtgjort i år (km)",null,null,null,0]
[null,null,"   ",null,null,"     = sum km i år",null,null,null,{"$f":"SUM(J19:J20)","v":0}]
[]
[]
[]
[]
[null,null,null,null,"   Utlegg til overnatting, bompenger m.m.",null,null,null,null,null,"  Fremmed valuta"]
[null,null,null,null,"  Dato","  Spesifikasjon",null,null,null,null,"Valuta","Beløp i valuta","  Kurs","Beløp"]
[null,"   "]
[null,"   "]
[]
[]
[null,"   "]
[]
[null,"   ","   ",null,null,null,null,null,null,null,null,null,"Delsum",{"$f":"IF(SUM(N28:N33)=0,0,SUM(N28:N33))","v":0}]
[null,"   ","   ",null,"   ","   ",null,"   "]
[null,null,"   "]
[null,null,"   "]
[]
[]
[]
[]
[]
[]
[null,null,null,null,"                     Sum reiseutlegg - overføres automatisk til forsiden, LTA-kode 4000",null,null,null,null,null,null,null,"Sum",{"$f":"IF(SUM(N19+N34+N42)=0,0,SUM(N19+N34+N42))","v":0}]
[]
[null,"  Navn og adresse på hotell,",null,null,"   Overnatting"]
[null,"  pensjonat o.a."]
[]
[]
[]
[null,"   Merknader"]
[]
[null,null,null,null,null,null,null,null,null,null,null,null,{"$f":"A!N47","v":"00:00:00"}]
[]
[null,"Tidsintervall"]
[null,"5-9 timer"]
[null,"9-12 timer"]
[null,"over 12 timer"]

{"sheet":"E","index":2,"n_rows":53,"n_cols":14,"rows_kept":53,"cut":false,"hidden":true,"merged":[[10,0,10,2],[11,0,11,2],[6,0,6,2],[8,0,8,2],[9,0,9,2],[7,0,7,2],[0,0,0,2],[1,0,1,2],[4,0,4,2],[5,0,5,2],[3,0,3,2],[2,0,2,2]]}
["Trekk for kost",null,null,"Frokost","Lunsj","Middag","Sum",null,"Sats",null,"Veiledning"]
["Uten overnatting",null,null,{"$f":"IF(A!F30<>0,#REF!*A!F30,\"\")","v":{"$error":"#REF!"}},{"$f":"IF(A!G30<>0,#REF!*A!G30,\"\")","v":""},{"$f":"IF(A!H30<>0,#REF!*A!H30,\"\")","v":""},{"$f":"IF(SUM(D2:F2)>A!L14,A!L14,SUM(D2:F2))","v":{"$error":"#REF!"}},{"$f":"IF(B!J5=\"\",\"\",+B!J5)","v":""},null,null,"fyll ut hvite felt. "]
["Uten overnatting",null,null,{"$f":"IF(A!F32<>0,#REF!*A!F32,\"\")","v":{"$error":"#REF!"}},{"$f":"IF(A!G32<>0,#REF!*A!G32,\"\")","v":""},{"$f":"IF(A!H32<>0,#REF!*A!H32,\"\")","v":""},{"$f":"IF(SUM(D3:F3)>A!#REF!,A!#REF!,SUM(D3:F3))","v":{"$error":"#REF!"}},{"$f":"IF(B!J6=\"\",\"\",+B!J6)","v":""},null,null,"fyll ut hvite felt. "]
["Uten overnatting",null,null,{"$f":"IF(A!F36<>0,#REF!*A!F36,\"\")","v":{"$error":"#REF!"}},{"$f":"IF(A!G36<>0,#REF!*A!G36,\"\")","v":""},{"$f":"IF(A!H36<>0,#REF!*A!H36,\"\")","v":""},{"$f":"IF(SUM(D4:F4)>A!L15,A!L15,SUM(D4:F4))","v":{"$error":"#REF!"}},{"$f":"IF(B!J6=\"\",\"\",+B!J6)","v":""},null,null,"fyll ut hvite felt. ",null,null,"   Beløp"]
["Hotell innland",null,null,{"$f":"IF(A!F37<>0,#REF!*A!F37,\"\")","v":{"$error":"#REF!"}},{"$f":"IF(A!G37<>0,#REF!*A!G37,\"\")","v":""},{"$f":"IF(A!H37<>0,#REF!*A!H37,\"\")","v":""},{"$f":"SUM(D5:F5)","v":{"$error":"#REF!"}},{"$f":"IF(B!J6=\"\",\"\",+B!J6)","v":""},null,null,"lagre lokalt",null,null,0]
["Hotell utland",null,null,{"$f":"IF(A!F38<>0,IF(I6*#REF!>#REF!,A!F38*#REF!,A!F38*E!I6*#REF!),\"\")","v":{"$error":"#REF!"}},{"$f":"IF(A!G38<>0,A!G38*I6*#REF!,\"\")","v":""},{"$f":"IF(A!H38<>0,A!H38*I6*#REF!,\"\")","v":""},{"$error":"#REF!"},{"$f":"IF(B!J7=\"\",\"\",+B!J7)","v":""},{"$f":"VLOOKUP(A!J38,#REF!,3,FALSE)","v":{"$error":"#REF!"}},null,"hvordan håndtere årsskifte - nullstille akkumulator"]
["Hotell utland",null,null,{"$f":"IF(A!#REF!<>0,IF(I7*#REF!>#REF!,A!#REF!*#REF!,A!#REF!*E!I7*#REF!),\"\")","v":{"$error":"#REF!"}},{"$f":"IF(A!#REF!<>0,A!#REF!*I7*#REF!,\"\")","v":{"$error":"#REF!"}},{"$f":"IF(A!#REF!<>0,A!#REF!*I7*#REF!,\"\")","v":{"$error":"#REF!"}},{"$error":"#REF!"},{"$f":"IF(B!J8=\"\",\"\",+B!J8)","v":""},{"$f":"VLOOKUP(A!#REF!,#REF!,3,FALSE)","v":{"$error":"#REF!"}}]
["Hybel/brakke/priv utland",null,null,{"$f":"IF(A!#REF!<>0,IF(I8*#REF!>#REF!,A!#REF!*#REF!,A!#REF!*E!I8*#REF!),\"\")","v":{"$error":"#REF!"}},{"$f":"IF(A!#REF!<>0,A!#REF!*I8*#REF!,\"\")","v":{"$error":"#REF!"}},{"$f":"IF(A!#REF!<>0,A!#REF!*I8*#REF!,\"\")","v":{"$error":"#REF!"}},{"$error":"#REF!"},null,{"$f":"VLOOKUP(A!#REF!,#REF!,3,FALSE)","v":{"$error":"#REF!"}}]
["Pensjonat",null,null,{"$f":"IF(A!#REF!<>0,IF(#REF!*#REF!>#REF!,A!#REF!*#REF!,A!#REF!*#REF!*#REF!),\"\")","v":{"$error":"#REF!"}},{"$f":"IF(A!#REF!<>0,A!#REF!*#REF!*#REF!,\"\")","v":{"$error":"#REF!"}},{"$f":"IF(A!#REF!<>0,#REF!*A!#REF!*#REF!,\"\")","v":{"$error":"#REF!"}},{"$error":"#REF!"},{"$f":"IF(B!J9=\"\",\"\",+B!J9)","v":""}]
["Hybel/brakke/privat",null,null,{"$f":"IF(A!#REF!<>0,IF(#REF!*#REF!>#REF!,A!#REF!*#REF!,A!#REF!*#REF!*#REF!),\"\")","v":{"$error":"#REF!"}},{"$f":"IF(A!#REF!<>0,A!#REF!*#REF!*#REF!,\"\")","v":{"$error":"#REF!"}},{"$f":"IF(A!#REF!<>0,#REF!*A!#REF!*#REF!,\"\")","v":{"$error":"#REF!"}},{"$error":"#REF!"},{"$f":"IF(B!J10=\"\",\"\",+B!J10)","v":""}]
["Overskudd PENSJONAT",null,null,{"$f":"IF(A!#REF!<>0,A!#REF!*#REF!-D9,\"\")","v":{"$error":"#REF!"}},{"$f":"IF(A!#REF!<>0,A!#REF!*#REF!-E9,\"\")","v":{"$error":"#REF!"}},{"$f":"IF(A!#REF!<>0,A!#REF!*#REF!-F9,\"\")","v":{"$error":"#REF!"}},{"$error":"#REF!"}]
["Overskudd hybel, brakke privat",null,null,{"$f":"IF(A!#REF!<>0,A!#REF!*#REF!-D10,\"\")","v":{"$error":"#REF!"}},{"$f":"IF(A!#REF!<>0,A!#REF!*#REF!-E10,\"\")","v":{"$error":"#REF!"}},{"$f":"IF(A!#REF!<>0,A!#REF!*#REF!-F10,\"\")","v":{"$error":"#REF!"}},{"$error":"#REF!"}]
[null,null,null,"Her ligger koblingene til land"]
[null,null,null,6,null,"Her summeres kilometer hjem / arbeid."]
[null,null,null,2,null,{"$f":"SUMIF(B!$I$5:$I$18,\"X\",B!$J$5:$J$18)","v":0}]
[null,null,null,1,null,"Her summeres kilometer tjenestereise innland"]
[null,null,null,1,null,{"$f":"SUMIF(B!$I$5:$I$18,\"\",B!$J$5:$J$18)","v":0}]
[null,null,null,null,null,"Her summeres kilometer tjenestereise utland"]
[null,null,null,1,null,{"$f":"SUMIF(B!$I$5:$I$18,\"U\",B!$J$5:$J$18)","v":0}]
[null,null,null,null,null,"Her summeres kilometer tjenestereise Tromsø"]
[null,null,null,1,null,{"$f":"SUMIF(B!$I$5:$I$18,\"T\",B!$J$5:$J$18)","v":0}]
[null,null,null,1]
[null,null,null,1]
[]
[]
[]
[]
[]
["MVA-fordeling:"]
["Radnr B-ark","MVA-fordeling 01:",null,"MVA-fordeling 07:",null,"MVA-fordeling 11:",null,"MVA-fordeling 25:"]
[5,{"$f":"IF(+B!#REF!=\"\",1,IF(B!#REF!=1,1,IF(B!#REF!=99,1,\"\")))","v":{"$error":"#REF!"}},{"$f":"IF(B31=1,+B!$N5,0)","v":{"$error":"#REF!"}},{"$f":"IF(+B!#REF!=7,7,\"\")","v":{"$error":"#REF!"}},{"$f":"IF(D31=7,+B!$N5,0)","v":{"$error":"#REF!"}},{"$f":"IF(+B!#REF!=11,11,\"\")","v":{"$error":"#REF!"}},{"$f":"IF(F31=11,+B!$N5,0)","v":{"$error":"#REF!"}},{"$f":"IF(+B!#REF!=25,25,\"\")","v":{"$error":"#REF!"}},{"$f":"IF(H31=25,+B!$N5,0)","v":{"$error":"#REF!"}}]
[{"$f":"+A31+1","v":6},{"$f":"IF(+B!#REF!=\"\",1,IF(B!#REF!=1,1,IF(B!#REF!=99,1,\"\")))","v":{"$error":"#REF!"}},{"$f":"IF(B32=1,+B!N6,0)","v":{"$error":"#REF!"}},{"$f":"IF(+B!#REF!=7,7,\"\")","v":{"$error":"#REF!"}},{"$f":"IF(D32=7,+B!$N6,0)","v":{"$error":"#REF!"}},{"$f":"IF(+B!#REF!=11,11,\"\")","v":{"$error":"#REF!"}},{"$f":"IF(F32=11,+B!$N6,0)","v":{"$error":"#REF!"}},{"$f":"IF(+B!#REF!=25,25,\"\")","v":{"$error":"#REF!"}},{"$f":"IF(H32=25,+B!$N6,0)","v":{"$error":"#REF!"}}]
[{"$f":"+A32+1","v":7},{"$f":"IF(+B!#REF!=\"\",1,IF(B!#REF!=1,1,IF(B!#REF!=99,1,\"\")))","v":{"$error":"#REF!"}},{"$f":"IF(B33=1,+B!N7,0)","v":{"$error":"#REF!"}},{"$f":"IF(+B!#REF!=7,7,\"\")","v":{"$error":"#REF!"}},{"$f":"IF(D33=7,+B!$N7,0)","v":{"$error":"#REF!"}},{"$f":"IF(+B!#REF!=11,11,\"\")","v":{"$error":"#REF!"}},{"$f":"IF(F33=11,+B!$N7,0)","v":{"$error":"#REF!"}},{"$f":"IF(+B!#REF!=25,25,\"\")","v":{"$error":"#REF!"}},{"$f":"IF(H33=25,+B!$N7,0)","v":{"$error":"#REF!"}}]
[8,{"$f":"IF(+B!#REF!=\"\",1,IF(B!#REF!=1,1,IF(B!#REF!=99,1,\"\")))","v":{"$error":"#REF!"}},{"$f":"IF(B34=1,+B!N8,0)","v":{"$error":"#REF!"}},{"$f":"IF(+B!#REF!=7,7,\"\")","v":{"$error":"#REF!"}},{"$f":"IF(D34=7,+B!$N8,0)","v":{"$error":"#REF!"}},{"$f":"IF(+B!#REF!=11,11,\"\")","v":{"$error":"#REF!"}},{"$f":"IF(F34=11,+B!$N8,0)","v":{"$error":"#REF!"}},{"$f":"IF(+B!#REF!=25,25,\"\")","v":{"$error":"#REF!"}},{"$f":"IF(H34=25,+B!$N8,0)","v":{"$error":"#REF!"}}]
[9,{"$f":"IF(+B!#REF!=\"\",1,IF(B!#REF!=1,1,IF(B!#REF!=99,1,\"\")))","v":{"$error":"#REF!"}},{"$f":"IF(B35=1,+B!N9,0)","v":{"$error":"#REF!"}},{"$f":"IF(+B!#REF!=7,7,\"\")","v":{"$error":"#REF!"}},{"$f":"IF(D35=7,+B!$N9,0)","v":{"$error":"#REF!"}},{"$f":"IF(+B!#REF!=11,11,\"\")","v":{"$error":"#REF!"}},{"$f":"IF(F35=11,+B!$N9,0)","v":{"$error":"#REF!"}},{"$f":"IF(+B!#REF!=25,25,\"\")","v":{"$error":"#REF!"}},{"$f":"IF(H35=25,+B!$N9,0)","v":{"$error":"#REF!"}}]
[10,{"$f":"IF(+B!#REF!=\"\",1,IF(B!#REF!=1,1,IF(B!#REF!=99,1,\"\")))","v":{"$error":"#REF!"}},{"$f":"IF(B36=1,+B!N10,0)","v":{"$error":"#REF!"}},{"$f":"IF(+B!#REF!=7,7,\"\")","v":{"$error":"#REF!"}},{"$f":"IF(D36=7,+B!$N10,0)","v":{"$error":"#REF!"}},{"$f":"IF(+B!#REF!=11,11,\"\")","v":{"$error":"#REF!"}},{"$f":"IF(F36=11,+B!$N10,0)","v":{"$error":"#REF!"}},{"$f":"IF(+B!#REF!=25,25,\"\")","v":{"$error":"#REF!"}},{"$f":"IF(H36=25,+B!$N10,0)","v":{"$error":"#REF!"}}]
[11,{"$f":"IF(+B!#REF!=\"\",1,IF(B!#REF!=1,1,IF(B!#REF!=99,1,\"\")))","v":{"$error":"#REF!"}},{"$f":"IF(B37=1,+B!N11,0)","v":{"$error":"#REF!"}},{"$f":"IF(+B!#REF!=7,7,\"\")","v":{"$error":"#REF!"}},{"$f":"IF(D37=7,+B!$N11,0)","v":{"$error":"#REF!"}},{"$f":"IF(+B!#REF!=11,11,\"\")","v":{"$error":"#REF!"}},{"$f":"IF(F37=11,+B!$N11,0)","v":{"$error":"#REF!"}},{"$f":"IF(+B!#REF!=25,25,\"\")","v":{"$error":"#REF!"}},{"$f":"IF(H37=25,+B!$N11,0)","v":{"$error":"#REF!"}}]
[12,{"$f":"IF(+B!#REF!=\"\",1,IF(B!#REF!=1,1,IF(B!#REF!=99,1,\"\")))","v":{"$error":"#REF!"}},{"$f":"IF(B38=1,+B!N12,0)","v":{"$error":"#REF!"}},{"$f":"IF(+B!#REF!=7,7,\"\")","v":{"$error":"#REF!"}},{"$f":"IF(D38=7,+B!$N12,0)","v":{"$error":"#REF!"}},{"$f":"IF(+B!#REF!=11,11,\"\")","v":{"$error":"#REF!"}},{"$f":"IF(F38=11,+B!$N12,0)","v":{"$error":"#REF!"}},{"$f":"IF(+B!#REF!=25,25,\"\")","v":{"$error":"#REF!"}},{"$f":"IF(H38=25,+B!$N12,0)","v":{"$error":"#REF!"}}]
[13,{"$f":"IF(+B!#REF!=\"\",1,IF(B!#REF!=1,1,IF(B!#REF!=99,1,\"\")))","v":{"$error":"#REF!"}},{"$f":"IF(B39=1,+B!N13,0)","v":{"$error":"#REF!"}},{"$f":"IF(+B!#REF!=7,7,\"\")","v":{"$error":"#REF!"}},{"$f":"IF(D39=7,+B!$N13,0)","v":{"$error":"#REF!"}},{"$f":"IF(+B!#REF!=11,11,\"\")","v":{"$error":"#REF!"}},{"$f":"IF(F39=11,+B!$N13,0)","v":{"$error":"#REF!"}},{"$f":"IF(+B!#REF!=25,25,\"\")","v":{"$error":"#REF!"}},{"$f":"IF(H39=25,+B!$N13,0)","v":{"$error":"#REF!"}}]
[14,{"$f":"IF(+B!#REF!=\"\",1,IF(B!#REF!=1,1,IF(B!#REF!=99,1,\"\")))","v":{"$error":"#REF!"}},{"$f":"IF(B40=1,+B!N14,0)","v":{"$error":"#REF!"}},{"$f":"IF(+B!#REF!=7,7,\"\")","v":{"$error":"#REF!"}},{"$f":"IF(D40=7,+B!$N14,0)","v":{"$error":"#REF!"}},{"$f":"IF(+B!#REF!=11,11,\"\")","v":{"$error":"#REF!"}},{"$f":"IF(F40=11,+B!$N14,0)","v":{"$error":"#REF!"}},{"$f":"IF(+B!#REF!=25,25,\"\")","v":{"$error":"#REF!"}},{"$f":"IF(H40=25,+B!$N14,0)","v":{"$error":"#REF!"}}]
[15,{"$f":"IF(+B!#REF!=\"\",1,IF(B!#REF!=1,1,IF(B!#REF!=99,1,\"\")))","v":{"$error":"#REF!"}},{"$f":"IF(B41=1,+B!N15,0)","v":{"$error":"#REF!"}},{"$f":"IF(+B!#REF!=7,7,\"\")","v":{"$error":"#REF!"}},{"$f":"IF(D41=7,+B!$N15,0)","v":{"$error":"#REF!"}},{"$f":"IF(+B!#REF!=11,11,\"\")","v":{"$error":"#REF!"}},{"$f":"IF(F41=11,+B!$N15,0)","v":{"$error":"#REF!"}},{"$f":"IF(+B!#REF!=25,25,\"\")","v":{"$error":"#REF!"}},{"$f":"IF(H41=25,+B!$N15,0)","v":{"$error":"#REF!"}}]
[16,{"$f":"IF(+B!#REF!=\"\",1,IF(B!#REF!=1,1,IF(B!#REF!=99,1,\"\")))","v":{"$error":"#REF!"}},{"$f":"IF(B42=1,+B!N16,0)","v":{"$error":"#REF!"}},{"$f":"IF(+B!#REF!=7,7,\"\")","v":{"$error":"#REF!"}},{"$f":"IF(D42=7,+B!$N16,0)","v":{"$error":"#REF!"}},{"$f":"IF(+B!#REF!=11,11,\"\")","v":{"$error":"#REF!"}},{"$f":"IF(F42=11,+B!$N16,0)","v":{"$error":"#REF!"}},{"$f":"IF(+B!#REF!=25,25,\"\")","v":{"$error":"#REF!"}},{"$f":"IF(H42=25,+B!$N16,0)","v":{"$error":"#REF!"}}]
[17,{"$f":"IF(+B!#REF!=\"\",1,IF(B!#REF!=1,1,IF(B!#REF!=99,1,\"\")))","v":{"$error":"#REF!"}},{"$f":"IF(B43=1,+B!N17,0)","v":{"$error":"#REF!"}},{"$f":"IF(+B!#REF!=7,7,\"\")","v":{"$error":"#REF!"}},{"$f":"IF(D43=7,+B!$N17,0)","v":{"$error":"#REF!"}},{"$f":"IF(+B!#REF!=11,11,\"\")","v":{"$error":"#REF!"}},{"$f":"IF(F43=11,+B!$N17,0)","v":{"$error":"#REF!"}},{"$f":"IF(+B!#REF!=25,25,\"\")","v":{"$error":"#REF!"}},{"$f":"IF(H43=25,+B!$N17,0)","v":{"$error":"#REF!"}}]
[18,{"$f":"IF(+B!#REF!=\"\",1,IF(B!#REF!=1,1,IF(B!#REF!=99,1,\"\")))","v":{"$error":"#REF!"}},{"$f":"IF(B44=1,+B!N18,0)","v":{"$error":"#REF!"}},{"$f":"IF(+B!#REF!=7,7,\"\")","v":{"$error":"#REF!"}},{"$f":"IF(D44=7,+B!$N18,0)","v":{"$error":"#REF!"}},{"$f":"IF(+B!#REF!=11,11,\"\")","v":{"$error":"#REF!"}},{"$f":"IF(F44=11,+B!$N18,0)","v":{"$error":"#REF!"}},{"$f":"IF(+B!#REF!=25,25,\"\")","v":{"$error":"#REF!"}},{"$f":"IF(H44=25,+B!$N18,0)","v":{"$error":"#REF!"}}]
[{"$f":"+A44+7","v":25},{"$f":"IF(+B!#REF!=\"\",1,IF(B!#REF!=1,1,IF(B!#REF!=99,1,\"\")))","v":{"$error":"#REF!"}},{"$f":"IF(B45=1,+B!N28,0)","v":{"$error":"#REF!"}},{"$f":"IF(+B!#REF!=7,7,\"\")","v":{"$error":"#REF!"}},{"$f":"IF(D45=7,+B!$N28,0)","v":{"$error":"#REF!"}},{"$f":"IF(+B!#REF!=11,11,\"\")","v":{"$error":"#REF!"}},{"$f":"IF(F45=11,+B!$N28,0)","v":{"$error":"#REF!"}},{"$f":"IF(+B!#REF!=25,25,\"\")","v":{"$error":"#REF!"}},{"$f":"IF(H45=25,+B!$N28,0)","v":{"$error":"#REF!"}}]
[26,{"$f":"IF(+B!#REF!=\"\",1,IF(B!#REF!=1,1,IF(B!#REF!=99,1,\"\")))","v":{"$error":"#REF!"}},{"$f":"IF(B46=1,+B!N29,0)","v":{"$error":"#REF!"}},{"$f":"IF(+B!#REF!=7,7,\"\")","v":{"$error":"#REF!"}},{"$f":"IF(D46=7,+B!$N29,0)","v":{"$error":"#REF!"}},{"$f":"IF(+B!#REF!=11,11,\"\")","v":{"$error":"#REF!"}},{"$f":"IF(F46=11,+B!$N29,0)","v":{"$error":"#REF!"}},{"$f":"IF(+B!#REF!=25,25,\"\")","v":{"$error":"#REF!"}},{"$f":"IF(H46=25,+B!$N29,0)","v":{"$error":"#REF!"}}]
[27,{"$f":"IF(+B!#REF!=\"\",1,IF(B!#REF!=1,1,IF(B!#REF!=99,1,\"\")))","v":{"$error":"#REF!"}},{"$f":"IF(B47=1,+B!N32,0)","v":{"$error":"#REF!"}},{"$f":"IF(+B!#REF!=7,7,\"\")","v":{"$error":"#REF!"}},{"$f":"IF(D47=7,+B!$N32,0)","v":{"$error":"#REF!"}},{"$f":"IF(+B!#REF!=11,11,\"\")","v":{"$error":"#REF!"}},{"$f":"IF(F47=11,+B!$N32,0)","v":{"$error":"#REF!"}},{"$f":"IF(+B!#REF!=25,25,\"\")","v":{"$error":"#REF!"}},{"$f":"IF(H47=25,+B!$N32,0)","v":{"$error":"#REF!"}}]
[28,{"$f":"IF(+B!#REF!=\"\",1,IF(B!#REF!=1,1,IF(B!#REF!=99,1,\"\")))","v":{"$error":"#REF!"}},{"$f":"IF(B48=1,+B!N33,0)","v":{"$error":"#REF!"}},{"$f":"IF(+B!#REF!=7,7,\"\")","v":{"$error":"#REF!"}},{"$f":"IF(D48=7,+B!$N33,0)","v":{"$error":"#REF!"}},{"$f":"IF(+B!#REF!=11,11,\"\")","v":{"$error":"#REF!"}},{"$f":"IF(F48=11,+B!$N33,0)","v":{"$error":"#REF!"}},{"$f":"IF(+B!#REF!=25,25,\"\")","v":{"$error":"#REF!"}},{"$f":"IF(H48=25,+B!$N33,0)","v":{"$error":"#REF!"}}]
[{"$f":"+A48+10","v":38},null,{"$f":"IF(B49=1,+B!#REF!,0)","v":0},{"$f":"IF(+B!#REF!=7,7,\"\")","v":{"$error":"#REF!"}},{"$f":"IF(D49=7,+B!#REF!,0)","v":{"$error":"#REF!"}},{"$f":"IF(+B!#REF!=11,11,\"\")","v":{"$error":"#REF!"}},{"$f":"IF(F49=11,+B!#REF!,0)","v":{"$error":"#REF!"}},{"$f":"IF(+B!#REF!=25,25,\"\")","v":{"$error":"#REF!"}},{"$f":"IF(H49=25,+B!#REF!,0)","v":{"$error":"#REF!"}}]
[39,null,{"$f":"IF(B50=1,+B!N41,0)","v":0},{"$f":"IF(+B!#REF!=7,7,\"\")","v":{"$error":"#REF!"}},{"$f":"IF(D50=7,+B!$N41,0)","v":{"$error":"#REF!"}},{"$f":"IF(+B!#REF!=11,11,\"\")","v":{"$error":"#REF!"}},{"$f":"IF(F50=11,+B!$N41,0)","v":{"$error":"#REF!"}},{"$f":"IF(+B!#REF!=25,25,\"\")","v":{"$error":"#REF!"}},{"$f":"IF(H50=25,+B!$N41,0)","v":{"$error":"#REF!"}}]
[40,null,{"$f":"IF(B51=1,+B!#REF!,0)","v":0},{"$f":"IF(+B!#REF!=7,7,\"\")","v":{"$error":"#REF!"}},{"$f":"IF(D51=7,+B!#REF!,0)","v":{"$error":"#REF!"}},{"$f":"IF(+B!#REF!=11,11,\"\")","v":{"$error":"#REF!"}},{"$f":"IF(F51=11,+B!#REF!,0)","v":{"$error":"#REF!"}},{"$f":"IF(+B!#REF!=25,25,\"\")","v":{"$error":"#REF!"}},{"$f":"IF(H51=25,+B!#REF!,0)","v":{"$error":"#REF!"}}]
[41,null,{"$f":"IF(B52=1,+B!#REF!,0)","v":0},{"$f":"IF(+B!#REF!=7,7,\"\")","v":{"$error":"#REF!"}},{"$f":"IF(D52=7,+B!#REF!,0)","v":{"$error":"#REF!"}},{"$f":"IF(+B!#REF!=11,11,\"\")","v":{"$error":"#REF!"}},{"$f":"IF(F52=11,+B!#REF!,0)","v":{"$error":"#REF!"}},{"$f":"IF(+B!#REF!=25,25,\"\")","v":{"$error":"#REF!"}},{"$f":"IF(H52=25,+B!#REF!,0)","v":{"$error":"#REF!"}}]
[null,"01",{"$f":"SUM(C31:C52)","v":{"$error":"#REF!"}},"07",{"$f":"SUM(E31:E52)","v":{"$error":"#REF!"}},11,{"$f":"SUM(G31:G52)","v":{"$error":"#REF!"}},25,{"$f":"SUM(I31:I52)","v":{"$error":"#REF!"}},{"$f":"+C53+E53+G53+I53","v":{"$error":"#REF!"}}]